BEGIN:VCALENDAR
VERSION:2.0
PRODID:Linklings LLC
BEGIN:VTIMEZONE
TZID:America/Chicago
X-LIC-LOCATION:America/Chicago
BEGIN:DAYLIGHT
TZOFFSETFROM:-0600
TZOFFSETTO:-0500
TZNAME:CDT
DTSTART:19700308T020000
RRULE:FREQ=YEARLY;BYMONTH=3;BYDAY=2SU
END:DAYLIGHT
BEGIN:STANDARD
TZOFFSETFROM:-0500
TZOFFSETTO:-0600
TZNAME:CST
DTSTART:19701101T020000
RRULE:FREQ=YEARLY;BYMONTH=11;BYDAY=1SU
END:STANDARD
END:VTIMEZONE
BEGIN:VEVENT
DTSTAMP:20181221T160907Z
LOCATION:D171
DTSTART;TZID=America/Chicago:20181114T171500
DTEND;TZID=America/Chicago:20181114T184500
UID:submissions.supercomputing.org_SC18_sess445_bof203@linklings.com
SUMMARY:Revisiting the 2008 ExaScale Computing Study and Venturing Predict
 ions for 2028
DESCRIPTION:Birds of a Feather\nArchitectures, Networks, Tech Program Reg 
 Pass, Exhibits Reg Pass, Exhibits - Exhibit Hall Only Reg Pass\n\nRevisiti
 ng the 2008 ExaScale Computing Study and Venturing Predictions for 2028\n\
 nVetter, Kogge\n\nOn this 10-year anniversary of the ‘ExaScale Computing S
 tudy: Technology Challenges in Achieving Exascale Systems,’ we will reexam
 ine the report’s predictions, and use this information to crowdsource proj
 ections for HPC architectures in 2028. First, members from the original te
 am, including the study leader, Peter Kogge, will briefly highlight the re
 port’s hits and misses. Second, the panelists will present initial thought
 s about important architectural trends for 2028, guided by the outcome fro
 m the earlier retrospective. Throughout the session, we will electronicall
 y survey the audience on these hits and misses, their predictions for 2028
 , and then ask the panelists to address them.
URL:https://sc18.supercomputing.org/presentation/?id=bof203&sess=sess445
END:VEVENT
END:VCALENDAR

