BEGIN:VCALENDAR
VERSION:2.0
PRODID:Linklings LLC
BEGIN:VTIMEZONE
TZID:America/Chicago
X-LIC-LOCATION:America/Chicago
BEGIN:DAYLIGHT
TZOFFSETFROM:-0600
TZOFFSETTO:-0500
TZNAME:CDT
DTSTART:19700308T020000
RRULE:FREQ=YEARLY;BYMONTH=3;BYDAY=2SU
END:DAYLIGHT
BEGIN:STANDARD
TZOFFSETFROM:-0500
TZOFFSETTO:-0600
TZNAME:CST
DTSTART:19701101T020000
RRULE:FREQ=YEARLY;BYMONTH=11;BYDAY=1SU
END:STANDARD
END:VTIMEZONE
BEGIN:VEVENT
DTSTAMP:20181221T160908Z
LOCATION:D175
DTSTART;TZID=America/Chicago:20181114T171500
DTEND;TZID=America/Chicago:20181114T184500
UID:submissions.supercomputing.org_SC18_sess452_bof219@linklings.com
SUMMARY:Monitoring Large-Scale HPC Systems: Extracting and Presenting Mean
 ingful System and Application Insights
DESCRIPTION:Birds of a Feather\nData Analytics, Storage, Visualization, Te
 ch Program Reg Pass, Exhibits Reg Pass, Exhibits - Exhibit Hall Only Reg P
 ass\n\nMonitoring Large-Scale HPC Systems: Extracting and Presenting Meani
 ngful System and Application Insights\n\nGentile, Brandt, Schulz, Showerma
 n, Greenseid...\n\nWe explore opportunities and challenges in extracting a
 nd presenting meaningful insights into HPC System and Application behavior
  via monitoring. Panelists from large data/platform sites will interact wi
 th the audience on: Data stores to support performant analyses, Exploratio
 n of data to discover meaningful relationships, Machine learning, and more
 . Further, we discuss results from two multi-site reports on the "state of
  the practice" in HPC monitoring. \n\nWe invite system administrators, ana
 lysis and visualization developers, and application users and developers, 
 to facilitate community progress by identifying tools, techniques, gaps, a
 nd requirements for exploratory and production scenarios. Results will be 
 posted at: https://sites.google.com/site/monitoringlargescalehpcsystems.
URL:https://sc18.supercomputing.org/presentation/?id=bof219&sess=sess452
END:VEVENT
END:VCALENDAR

