BEGIN:VCALENDAR
VERSION:2.0
PRODID:Linklings LLC
BEGIN:VTIMEZONE
TZID:America/Chicago
X-LIC-LOCATION:America/Chicago
BEGIN:DAYLIGHT
TZOFFSETFROM:-0600
TZOFFSETTO:-0500
TZNAME:CDT
DTSTART:19700308T020000
RRULE:FREQ=YEARLY;BYMONTH=3;BYDAY=2SU
END:DAYLIGHT
BEGIN:STANDARD
TZOFFSETFROM:-0500
TZOFFSETTO:-0600
TZNAME:CST
DTSTART:19701101T020000
RRULE:FREQ=YEARLY;BYMONTH=11;BYDAY=1SU
END:STANDARD
END:VTIMEZONE
BEGIN:VEVENT
DTSTAMP:20181221T160908Z
LOCATION:C145
DTSTART;TZID=America/Chicago:20181113T171500
DTEND;TZID=America/Chicago:20181113T184500
UID:submissions.supercomputing.org_SC18_sess453_bof221@linklings.com
SUMMARY:HPC in the DoD
DESCRIPTION:Birds of a Feather\nTech Program Reg Pass, Exhibits Reg Pass, 
 Exhibits - Exhibit Hall Only Reg Pass\n\nHPC in the DoD\n\nUlibarri, Hedge
 peth, Fletcher, Campbell, Cuicchi...\n\nThe DoD has invested significant t
 ime and funding to support a large base of users on a variety of HPC-backe
 d projects.  This BoF will use lightning talks about current research, pla
 ns, and thrusts to illustrate DoD goals and opportunities for engagement. 
  These lightning talks are intended to help external organizations and res
 earchers connect with DoD users and sites to encourage partnerships and he
 lp solve problems. External engagement will help DoD users and sites grow 
 expertise and connect to the larger HPC community.
URL:https://sc18.supercomputing.org/presentation/?id=bof221&sess=sess453
END:VEVENT
END:VCALENDAR

