BEGIN:VCALENDAR
VERSION:2.0
PRODID:Linklings LLC
BEGIN:VTIMEZONE
TZID:America/Chicago
X-LIC-LOCATION:America/Chicago
BEGIN:DAYLIGHT
TZOFFSETFROM:-0600
TZOFFSETTO:-0500
TZNAME:CDT
DTSTART:19700308T020000
RRULE:FREQ=YEARLY;BYMONTH=3;BYDAY=2SU
END:DAYLIGHT
BEGIN:STANDARD
TZOFFSETFROM:-0500
TZOFFSETTO:-0600
TZNAME:CST
DTSTART:19701101T020000
RRULE:FREQ=YEARLY;BYMONTH=11;BYDAY=1SU
END:STANDARD
END:VTIMEZONE
BEGIN:VEVENT
DTSTAMP:20181221T160911Z
LOCATION:D169
DTSTART;TZID=America/Chicago:20181114T103000
DTEND;TZID=America/Chicago:20181114T120000
UID:submissions.supercomputing.org_SC18_sess462@linklings.com
SUMMARY:Experiencing HPC for Undergraduates: Graduate Student Perspective
DESCRIPTION:Experiencing HPC for Undergraduates\nStudent Program, Tech Pro
 gram Reg Pass\n\n
END:VEVENT
END:VCALENDAR

